BEGIN:VCALENDAR
PRODID:-//github.com/rianjs/ical.net//NONSGML ical.net 4.0//EN
VERSION:2.0
BEGIN:VEVENT
CATEGORIES:Activities
DESCRIPTION:
DTEND;TZID=Central Standard Time:20260603T230000
DTSTAMP:20260422T124852Z
DTSTART;TZID=Central Standard Time:20260603T190000
SEQUENCE:0
SUMMARY:Walleye vs Alumni Baseball Game
UID:6f80e674-256f-4cd3-959c-6c6395629644
END:VEVENT
END:VCALENDAR
