BEGIN:VCALENDAR
PRODID:-//github.com/rianjs/ical.net//NONSGML ical.net 4.0//EN
VERSION:2.0
BEGIN:VEVENT
CATEGORIES:School Activities
CATEGORIES:School Sports
DESCRIPTION:Put sports physicals on your calendar provided by Dr. Goodnigh
 t & Jess Comeau
DTEND;TZID=Central Standard Time:20260422T190000
DTSTAMP:20260420T100946Z
DTSTART;TZID=Central Standard Time:20260422T140000
SEQUENCE:0
SUMMARY:Sports Physicals
UID:51f62d06-d169-4b8e-8305-06a232b729b4
END:VEVENT
BEGIN:VEVENT
CATEGORIES:School Activities
CATEGORIES:School Sports
DESCRIPTION:Put sports physicals on your calendar provided by Dr. Goodnigh
 t & Jess Comeau
DTEND;TZID=Central Standard Time:20260513T190000
DTSTAMP:20260420T100946Z
DTSTART;TZID=Central Standard Time:20260513T140000
SEQUENCE:0
SUMMARY:Sports Physicals
UID:1fae3e06-5833-44a0-9fd4-322432a6a227
END:VEVENT
END:VCALENDAR
