BEGIN:VCALENDAR
PRODID:-//github.com/rianjs/ical.net//NONSGML ical.net 4.0//EN
VERSION:2.0
BEGIN:VEVENT
CATEGORIES:Activities
DESCRIPTION:
DTEND;TZID=Central Standard Time:20260706T210000
DTSTAMP:20260422T123529Z
DTSTART;TZID=Central Standard Time:20260706T170000
SEQUENCE:0
SUMMARY:Post 29 Walleye vs Williston Oilers
UID:4a8680ef-55a8-465c-b0c9-f7e0ae39db87
END:VEVENT
END:VCALENDAR
