BEGIN:VCALENDAR
PRODID:-//github.com/rianjs/ical.net//NONSGML ical.net 4.0//EN
VERSION:2.0
BEGIN:VEVENT
CATEGORIES:Activities
DESCRIPTION:
DTEND;TZID=Central Standard Time:20260718T130000
DTSTAMP:20260422T125148Z
DTSTART;TZID=Central Standard Time:20260718T110000
SEQUENCE:0
SUMMARY:Post 29 Walleye vs Valley City Royals
UID:76cf8aca-2a4a-476a-b5fe-eda668c3b26e
END:VEVENT
END:VCALENDAR
