BEGIN:VCALENDAR
PRODID:-//github.com/rianjs/ical.net//NONSGML ical.net 4.0//EN
VERSION:2.0
BEGIN:VEVENT
CATEGORIES:Activities
DESCRIPTION:
DTEND;TZID=Central Standard Time:20260709T210000
DTSTAMP:20260422T123529Z
DTSTART;TZID=Central Standard Time:20260709T170000
SEQUENCE:0
SUMMARY:Post 29 Walleye vs Dickinson Volunteers
UID:a32adf2c-b3e1-45bd-8bef-6b5f9ce79d8e
END:VEVENT
END:VCALENDAR
