BEGIN:VCALENDAR
PRODID:-//github.com/rianjs/ical.net//NONSGML ical.net 4.0//EN
VERSION:2.0
BEGIN:VEVENT
CATEGORIES:Activities
DESCRIPTION:
DTEND;TZID=Central Standard Time:20260623T203000
DTSTAMP:20260422T123536Z
DTSTART;TZID=Central Standard Time:20260623T160000
SEQUENCE:0
SUMMARY:Post 29 Walleye vs Bismarck Senators
UID:460680b3-1114-416d-b5d2-d6f6f33efa90
END:VEVENT
END:VCALENDAR
