BEGIN:VCALENDAR
PRODID:-//github.com/rianjs/ical.net//NONSGML ical.net 4.0//EN
VERSION:2.0
BEGIN:VEVENT
CATEGORIES:Activities
DESCRIPTION:
DTEND;TZID=Central Standard Time:20260622T210000
DTSTAMP:20260422T124350Z
DTSTART;TZID=Central Standard Time:20260622T170000
SEQUENCE:0
SUMMARY:Post 29 Walleye vs Belfield
UID:0c51e9bc-b173-469a-a8f0-05471ffe799b
END:VEVENT
END:VCALENDAR
