BEGIN:VCALENDAR
PRODID:-//github.com/rianjs/ical.net//NONSGML ical.net 4.0//EN
VERSION:2.0
BEGIN:VEVENT
CATEGORIES:Events
DESCRIPTION:Annual Pheasants Forever Wild Game Feed
DTEND;TZID=Central Standard Time:20260425T000000
DTSTAMP:20260423T192622Z
DTSTART;TZID=Central Standard Time:20260425T180000
SEQUENCE:0
SUMMARY:Pheasant's Forever Wild Game Feed
UID:8f5c5e6a-7232-4b98-9a6c-d90982fe843a
END:VEVENT
END:VCALENDAR
