BEGIN:VCALENDAR
PRODID:-//github.com/rianjs/ical.net//NONSGML ical.net 4.0//EN
VERSION:2.0
BEGIN:VEVENT
CATEGORIES:Classes
DESCRIPTION:Join us for a relaxed and creative Paint Your Own Pottery Open
  Studio!
DTEND;TZID=Central Standard Time:20260509T160000
DTSTAMP:20260420T235046Z
DTSTART;TZID=Central Standard Time:20260509T100000
SEQUENCE:0
SUMMARY:Paint Your Own Pottery Open Studio-May
UID:53ccb928-32c6-4b8f-8687-66fb21817ce6
END:VEVENT
END:VCALENDAR
