BEGIN:VCALENDAR
PRODID:-//github.com/rianjs/ical.net//NONSGML ical.net 4.0//EN
VERSION:2.0
BEGIN:VEVENT
CATEGORIES:Events
DESCRIPTION:Spring Job Fair at Williston State College!
DTEND;TZID=Central Standard Time:20260319T180000
DTSTAMP:20260420T082846Z
DTSTART;TZID=Central Standard Time:20260319T140000
SEQUENCE:0
SUMMARY:NW ND Job Fair
UID:502cb19c-a179-453e-ae89-56f3d7a2683d
END:VEVENT
END:VCALENDAR
