BEGIN:VCALENDAR
PRODID:-//github.com/rianjs/ical.net//NONSGML ical.net 4.0//EN
VERSION:2.0
BEGIN:VEVENT
CATEGORIES:School Sports
DESCRIPTION: Vs. Turtle Mountain Community<table class='games'><thead><tr>
 <th>Team</th><th>Time</th><th>Location</th></thead><tbody><tr><td>JV2</td
 ><td>1:00pm </td><td>Watford City High School</td></tbody></table>
DTEND;TZID=Central Standard Time:20260509T150000
DTSTAMP:20260421T161415Z
DTSTART;TZID=Central Standard Time:20260509T130000
SEQUENCE:0
SUMMARY:Girls Soccer
UID:c6ef895e-342b-4d08-9564-9c24df87dd78
END:VEVENT
END:VCALENDAR
