BEGIN:VCALENDAR
PRODID:-//github.com/rianjs/ical.net//NONSGML ical.net 4.0//EN
VERSION:2.0
BEGIN:VEVENT
CATEGORIES:Classes
DESCRIPTION:Ready to loosen up your drawing style and capture movement wit
 h confidence?
DTEND;TZID=Central Standard Time:20260507T200000
DTSTAMP:20260420T235443Z
DTSTART;TZID=Central Standard Time:20260507T180000
SEQUENCE:0
SUMMARY:Gesture Drawing Class
UID:cc2f4dc6-37a0-4d51-a938-14a04fd2764f
END:VEVENT
END:VCALENDAR
