BEGIN:VCALENDAR
PRODID:-//github.com/rianjs/ical.net//NONSGML ical.net 4.0//EN
VERSION:2.0
BEGIN:VEVENT
CATEGORIES:Classes
CATEGORIES:Events
DESCRIPTION:Join us for a hands-on Clay Sculpting Open Studio where creati
 vity takes shape!
DTEND;TZID=Central Standard Time:20260502T160000
DTSTAMP:20260420T235023Z
DTSTART;TZID=Central Standard Time:20260502T100000
SEQUENCE:0
SUMMARY:Clay Sculpting Open Studio-May
UID:6e08bba0-b8f0-478c-b4b3-ac58eeb1a9bd
END:VEVENT
END:VCALENDAR
