BEGIN:VCALENDAR
PRODID:-//github.com/rianjs/ical.net//NONSGML ical.net 4.0//EN
VERSION:2.0
BEGIN:VEVENT
CATEGORIES:Activities
CATEGORIES:Events
DESCRIPTION:Join us for an unforgettable evening full of festive fun\, foo
 d\, and culture!
DTEND;TZID=Central Standard Time:20260502T220000
DTSTAMP:20260422T162140Z
DTSTART;TZID=Central Standard Time:20260502T170000
SEQUENCE:0
SUMMARY:Cinco de Mayo
UID:b9dd360a-67ee-46a0-83a5-75c244c72d78
END:VEVENT
END:VCALENDAR
