BEGIN:VCALENDAR
PRODID:-//github.com/rianjs/ical.net//NONSGML ical.net 4.0//EN
VERSION:2.0
BEGIN:VEVENT
CATEGORIES:School Sports
DESCRIPTION: Vs. Mandan High School<table class='games'><thead><tr><th>Tea
 m</th><th>Time</th><th>Location</th></thead><tbody><tr><td>JV</td><td>1:0
 0pm </td><td>RRC Field</td></tbody></table>
DTEND;TZID=Central Standard Time:20260425T150000
DTSTAMP:20260421T131723Z
DTSTART;TZID=Central Standard Time:20260425T130000
SEQUENCE:0
SUMMARY:Boys Baseball
UID:fea3ba80-2747-43ba-bbf9-ea733ff22a0c
END:VEVENT
END:VCALENDAR
