BEGIN:VCALENDAR
PRODID:-//github.com/rianjs/ical.net//NONSGML ical.net 4.0//EN
VERSION:2.0
BEGIN:VEVENT
CATEGORIES:School Sports
DESCRIPTION: Vs. South Heart<table class='games'><thead><tr><th>Team</th><
 th>Time</th><th>Location</th></thead><tbody><tr><td>Varsity</td><td>12:00
 pm </td><td>RRC Field</td></tbody></table>
DTEND;TZID=Central Standard Time:20260509T140000
DTSTAMP:20260421T161149Z
DTSTART;TZID=Central Standard Time:20260509T120000
SEQUENCE:0
SUMMARY:Boys Baseball
UID:092015db-c7cd-43f1-a1d5-9e5ebcb5bb23
END:VEVENT
END:VCALENDAR
