BEGIN:VCALENDAR
PRODID:-//github.com/rianjs/ical.net//NONSGML ical.net 4.0//EN
VERSION:2.0
BEGIN:VEVENT
CATEGORIES:Events
DESCRIPTION:Clothes\, books\, home goods\, and more!
DTEND;TZID=Central Standard Time:20260424T180000
DTSTAMP:20260423T191854Z
DTSTART;TZID=Central Standard Time:20260424T100000
SEQUENCE:0
SUMMARY:Bakken MomCo Rummage Sale
UID:4c1ac7ce-816a-43b9-8028-a055e901ccab
END:VEVENT
BEGIN:VEVENT
CATEGORIES:Events
DESCRIPTION:Clothes\, books\, home goods\, and more!
DTEND;TZID=Central Standard Time:20260425T120000
DTSTAMP:20260423T191854Z
DTSTART;TZID=Central Standard Time:20260425T090000
SEQUENCE:0
SUMMARY:Bakken MomCo Rummage Sale
UID:b7a98dbb-52af-486b-a8cc-68f80aa0ee64
END:VEVENT
END:VCALENDAR
