BEGIN:VCALENDAR
PRODID:-//github.com/rianjs/ical.net//NONSGML ical.net 4.0//EN
VERSION:2.0
BEGIN:VEVENT
CATEGORIES:Classes
DESCRIPTION:Looking for a creative space to paint\, draw\, and connect? Jo
 in us for Open Studio\, a relaxed time for artists of all levels to creat
 e\, share ideas\, and enjoy being part of a supportive art community.\n\n
DTEND;TZID=Central Standard Time:20260512T200000
DTSTAMP:20260420T234707Z
DTSTART;TZID=Central Standard Time:20260512T160000
SEQUENCE:0
SUMMARY:Artist Open Studio on the Deck
UID:e1e90113-4ea6-4a24-84ed-29f6c251ce31
END:VEVENT
END:VCALENDAR
