BEGIN:VCALENDAR
PRODID:-//github.com/rianjs/ical.net//NONSGML ical.net 4.0//EN
VERSION:2.0
BEGIN:VEVENT
CATEGORIES:Activities
DESCRIPTION:
DTEND;TZID=Central Standard Time:20260607T180000
DTSTAMP:20260422T123222Z
DTSTART;TZID=Central Standard Time:20260604T100000
SEQUENCE:0
SUMMARY:6th Annual Doug Johnsrud Baseball Tournament
UID:914802fb-ba4f-4533-94f3-295d755370d6
END:VEVENT
END:VCALENDAR
